BEGIN:VCALENDAR
VERSION:2.0
PRODID:icalendar-ruby
CALSCALE:GREGORIAN
METHOD:PUBLISH
BEGIN:VTIMEZONE
TZID:Australia/Melbourne
BEGIN:DAYLIGHT
DTSTART:20181007T030000
TZOFFSETFROM:+1000
TZOFFSETTO:+1100
RRULE:FREQ=YEARLY;BYDAY=1SU;BYMONTH=10
TZNAME:AEDT
END:DAYLIGHT
BEGIN:STANDARD
DTSTART:20190407T020000
TZOFFSETFROM:+1100
TZOFFSETTO:+1000
RRULE:FREQ=YEARLY;BYDAY=1SU;BYMONTH=4
TZNAME:AEST
END:STANDARD
END:VTIMEZONE
BEGIN:VEVENT
DTSTAMP:20190301T100730Z
UID:inspection_484564
DTSTART;TZID=Australia/Melbourne:20190302T110000
DTEND;TZID=Australia/Melbourne:20190302T113000
CLASS:PUBLIC
CREATED:20190225T134611
DESCRIPTION: 
LAST-MODIFIED:20190225T134611
LOCATION:8 Crawford Way\, SUNBURY VIC 3429\, Australia
SUMMARY:8 Crawford Way\,  Inspection
URL:http://www.chessproperty.com.au/
END:VEVENT
END:VCALENDAR
