BEGIN:VCALENDAR
VERSION:2.0
PRODID:icalendar-ruby
CALSCALE:GREGORIAN
METHOD:PUBLISH
BEGIN:VTIMEZONE
TZID:Australia/Melbourne
BEGIN:DAYLIGHT
DTSTART:20181007T030000
TZOFFSETFROM:+1000
TZOFFSETTO:+1100
RRULE:FREQ=YEARLY;BYDAY=1SU;BYMONTH=10
TZNAME:AEDT
END:DAYLIGHT
BEGIN:STANDARD
DTSTART:20190407T020000
TZOFFSETFROM:+1100
TZOFFSETTO:+1000
RRULE:FREQ=YEARLY;BYDAY=1SU;BYMONTH=4
TZNAME:AEST
END:STANDARD
END:VTIMEZONE
BEGIN:VEVENT
DTSTAMP:20190301T100737Z
UID:inspection_486718
DTSTART;TZID=Australia/Melbourne:20190306T180000
DTEND;TZID=Australia/Melbourne:20190306T183000
CLASS:PUBLIC
CREATED:20190228T113604
DESCRIPTION: 
LAST-MODIFIED:20190228T113604
LOCATION:8 Crawford Way\, SUNBURY VIC 3429\, Australia
SUMMARY:8 Crawford Way\,  Inspection
URL:http://www.chessproperty.com.au/
END:VEVENT
END:VCALENDAR
